BEGIN:VCALENDAR
VERSION:2.0
PRODID:-//Katholische Schule Bergedorf - ECPv6.15.20//NONSGML v1.0//EN
CALSCALE:GREGORIAN
METHOD:PUBLISH
X-ORIGINAL-URL:https://schule12.katholischer-schulverband-hamburg.de
X-WR-CALDESC:Veranstaltungen für Katholische Schule Bergedorf
REFRESH-INTERVAL;VALUE=DURATION:PT1H
X-Robots-Tag:noindex
X-PUBLISHED-TTL:PT1H
BEGIN:VTIMEZONE
TZID:Europe/Berlin
BEGIN:DAYLIGHT
TZOFFSETFROM:+0100
TZOFFSETTO:+0200
TZNAME:CEST
DTSTART:20230326T010000
END:DAYLIGHT
BEGIN:STANDARD
TZOFFSETFROM:+0200
TZOFFSETTO:+0100
TZNAME:CET
DTSTART:20231029T010000
END:STANDARD
BEGIN:DAYLIGHT
TZOFFSETFROM:+0100
TZOFFSETTO:+0200
TZNAME:CEST
DTSTART:20240331T010000
END:DAYLIGHT
BEGIN:STANDARD
TZOFFSETFROM:+0200
TZOFFSETTO:+0100
TZNAME:CET
DTSTART:20241027T010000
END:STANDARD
BEGIN:DAYLIGHT
TZOFFSETFROM:+0100
TZOFFSETTO:+0200
TZNAME:CEST
DTSTART:20250330T010000
END:DAYLIGHT
BEGIN:STANDARD
TZOFFSETFROM:+0200
TZOFFSETTO:+0100
TZNAME:CET
DTSTART:20251026T010000
END:STANDARD
BEGIN:DAYLIGHT
TZOFFSETFROM:+0100
TZOFFSETTO:+0200
TZNAME:CEST
DTSTART:20260329T010000
END:DAYLIGHT
BEGIN:STANDARD
TZOFFSETFROM:+0200
TZOFFSETTO:+0100
TZNAME:CET
DTSTART:20261025T010000
END:STANDARD
END:VTIMEZONE
BEGIN:VEVENT
DTSTART;VALUE=DATE:20250724
DTEND;VALUE=DATE:20250904
DTSTAMP:20260420T132708
CREATED:20240918T092303Z
LAST-MODIFIED:20240918T092303Z
UID:6675-1753315200-1756943999@schule12.katholischer-schulverband-hamburg.de
SUMMARY:Sommerferien
DESCRIPTION:
URL:https://schule12.katholischer-schulverband-hamburg.de/termin/sommerferien/
END:VEVENT
BEGIN:VEVENT
DTSTART;VALUE=DATE:20250619
DTEND;VALUE=DATE:20250620
DTSTAMP:20260420T132708
CREATED:20240918T093739Z
LAST-MODIFIED:20240918T093739Z
UID:6683-1750291200-1750377599@schule12.katholischer-schulverband-hamburg.de
SUMMARY:Fronleichnam
DESCRIPTION:An diesem katholischen Feiertag finden kein Unterricht und keine GBS Betreuung statt. Es fahren auch keine Schulbusse. Die Kinder der 3. und 4. Klassen kommen verpflichtend zu Gottesdienst auf dem Schulhof\, alle anderen Kinder sind mit ihren Eltern herzlich eingeladen\, an der Heiligen Messe teilzunehmen.
URL:https://schule12.katholischer-schulverband-hamburg.de/termin/fronleichnam/
END:VEVENT
BEGIN:VEVENT
DTSTART;VALUE=DATE:20250526
DTEND;VALUE=DATE:20250531
DTSTAMP:20260420T132708
CREATED:20240918T092221Z
LAST-MODIFIED:20240918T092221Z
UID:6673-1748217600-1748649599@schule12.katholischer-schulverband-hamburg.de
SUMMARY:Maiferien
DESCRIPTION:
URL:https://schule12.katholischer-schulverband-hamburg.de/termin/maiferien/
END:VEVENT
BEGIN:VEVENT
DTSTART;VALUE=DATE:20250512
DTEND;VALUE=DATE:20250517
DTSTAMP:20260420T132708
CREATED:20240918T094311Z
LAST-MODIFIED:20240918T094311Z
UID:6689-1747008000-1747439999@schule12.katholischer-schulverband-hamburg.de
SUMMARY:Projektwoche
DESCRIPTION:In dieser Woche findet kein normaler Unterricht in Schulfächern statt. Alle Kinder beschäftigen sich am Schulvormittag mit einem Thema und arbeiten dazu.
URL:https://schule12.katholischer-schulverband-hamburg.de/termin/projektwoche/
END:VEVENT
BEGIN:VEVENT
DTSTART;VALUE=DATE:20250502
DTEND;VALUE=DATE:20250503
DTSTAMP:20260420T132708
CREATED:20240918T092122Z
LAST-MODIFIED:20240918T092122Z
UID:6669-1746144000-1746230399@schule12.katholischer-schulverband-hamburg.de
SUMMARY:Brückentag
DESCRIPTION:Die Schule und die GBS sind an diesem Tag geschlossen.
URL:https://schule12.katholischer-schulverband-hamburg.de/termin/brueckentag-2/
END:VEVENT
BEGIN:VEVENT
DTSTART;VALUE=DATE:20250501
DTEND;VALUE=DATE:20250502
DTSTAMP:20260420T132708
CREATED:20240918T092149Z
LAST-MODIFIED:20240918T092149Z
UID:6671-1746057600-1746143999@schule12.katholischer-schulverband-hamburg.de
SUMMARY:Maifeiertag
DESCRIPTION:
URL:https://schule12.katholischer-schulverband-hamburg.de/termin/maifeiertag/
END:VEVENT
BEGIN:VEVENT
DTSTART;VALUE=DATE:20250310
DTEND;VALUE=DATE:20250322
DTSTAMP:20260420T132708
CREATED:20240918T092034Z
LAST-MODIFIED:20240918T092034Z
UID:6667-1741564800-1742601599@schule12.katholischer-schulverband-hamburg.de
SUMMARY:Frühjahrsferien
DESCRIPTION:
URL:https://schule12.katholischer-schulverband-hamburg.de/termin/fruehjahrsferien/
END:VEVENT
BEGIN:VEVENT
DTSTART;VALUE=DATE:20250131
DTEND;VALUE=DATE:20250201
DTSTAMP:20260420T132708
CREATED:20240918T091950Z
LAST-MODIFIED:20240918T093228Z
UID:6665-1738281600-1738367999@schule12.katholischer-schulverband-hamburg.de
SUMMARY:Halbjahrespause
DESCRIPTION:An diesem Tag ist unterrichtsfrei und es fahren keine Schulbusse. Für die GBS Kin der können „Sockeltage“  gebucht werden.
URL:https://schule12.katholischer-schulverband-hamburg.de/termin/halbjahrespause/
END:VEVENT
BEGIN:VEVENT
DTSTART;VALUE=DATE:20250130
DTEND;VALUE=DATE:20250131
DTSTAMP:20260420T132708
CREATED:20240918T092901Z
LAST-MODIFIED:20240918T092901Z
UID:6677-1738195200-1738281599@schule12.katholischer-schulverband-hamburg.de
SUMMARY:Lernentwicklungsgespräche
DESCRIPTION:An diesem Tag ist unterrichtsfrei und es fahren keine Schulbusse. Für GBS Kinder können „Sockeltage“ gebucht werden.
URL:https://schule12.katholischer-schulverband-hamburg.de/termin/lernentwicklungsgespraeche-2/
END:VEVENT
BEGIN:VEVENT
DTSTART;VALUE=DATE:20241224
DTEND;VALUE=DATE:20250101
DTSTAMP:20260420T132708
CREATED:20230208T102722Z
LAST-MODIFIED:20230208T102722Z
UID:5871-1734998400-1735689599@schule12.katholischer-schulverband-hamburg.de
SUMMARY:GBS Winter Schließung
DESCRIPTION:
URL:https://schule12.katholischer-schulverband-hamburg.de/termin/gbs-winter-schliessung/
END:VEVENT
BEGIN:VEVENT
DTSTART;VALUE=DATE:20241220
DTEND;VALUE=DATE:20250104
DTSTAMP:20260420T132708
CREATED:20240918T091839Z
LAST-MODIFIED:20240918T091839Z
UID:6663-1734652800-1735948799@schule12.katholischer-schulverband-hamburg.de
SUMMARY:Weihnachtsferien
DESCRIPTION:
URL:https://schule12.katholischer-schulverband-hamburg.de/termin/weihnachtsferien/
END:VEVENT
BEGIN:VEVENT
DTSTART;TZID=Europe/Berlin:20241219T110000
DTEND;TZID=Europe/Berlin:20241219T120000
DTSTAMP:20260420T132708
CREATED:20240918T095017Z
LAST-MODIFIED:20240918T095035Z
UID:6693-1734606000-1734609600@schule12.katholischer-schulverband-hamburg.de
SUMMARY:Adventssingen
DESCRIPTION:Am Schulvormittag trifft sich die Schulgemeinschaft in der Kirche ST. Marien zum gemeinsamen Singen.
URL:https://schule12.katholischer-schulverband-hamburg.de/termin/adventssingen/
END:VEVENT
BEGIN:VEVENT
DTSTART;VALUE=DATE:20241119
DTEND;VALUE=DATE:20241120
DTSTAMP:20260420T132708
CREATED:20240918T093406Z
LAST-MODIFIED:20240918T093406Z
UID:6681-1731974400-1732060799@schule12.katholischer-schulverband-hamburg.de
SUMMARY:Projekttag zur Heiligen Elisabeth
DESCRIPTION:Die Schulgemeinschaft feiert um 9.15 Uhr einen Schulgottesdienst in der Kirche St. Marien und beschäftigt sich anschließend mit dem Leben der Heiligen Elisabeth.
URL:https://schule12.katholischer-schulverband-hamburg.de/termin/projekttag-zur-heiligen-elisabeth/
END:VEVENT
BEGIN:VEVENT
DTSTART;TZID=Europe/Berlin:20241115T180000
DTEND;TZID=Europe/Berlin:20241115T200000
DTSTAMP:20260420T132708
CREATED:20240918T094115Z
LAST-MODIFIED:20240918T094115Z
UID:6687-1731693600-1731700800@schule12.katholischer-schulverband-hamburg.de
SUMMARY:Martinsumzug und Basar
DESCRIPTION:
URL:https://schule12.katholischer-schulverband-hamburg.de/termin/martinsumzug-und-basar/
END:VEVENT
BEGIN:VEVENT
DTSTART;VALUE=DATE:20241021
DTEND;VALUE=DATE:20241102
DTSTAMP:20260420T132708
CREATED:20240918T091755Z
LAST-MODIFIED:20240918T091755Z
UID:6661-1729468800-1730505599@schule12.katholischer-schulverband-hamburg.de
SUMMARY:Herbstferien
DESCRIPTION:
URL:https://schule12.katholischer-schulverband-hamburg.de/termin/herbstferien/
END:VEVENT
BEGIN:VEVENT
DTSTART;VALUE=DATE:20241004
DTEND;VALUE=DATE:20241005
DTSTAMP:20260420T132708
CREATED:20240918T091707Z
LAST-MODIFIED:20240918T091707Z
UID:6659-1728000000-1728086399@schule12.katholischer-schulverband-hamburg.de
SUMMARY:Brückentag
DESCRIPTION:Die Schule und die GBS bleiben an diesem Tag geschlossen.
URL:https://schule12.katholischer-schulverband-hamburg.de/termin/brueckentag/
END:VEVENT
BEGIN:VEVENT
DTSTART;VALUE=DATE:20241003
DTEND;VALUE=DATE:20241004
DTSTAMP:20260420T132708
CREATED:20240918T091549Z
LAST-MODIFIED:20240918T091549Z
UID:6657-1727913600-1727999999@schule12.katholischer-schulverband-hamburg.de
SUMMARY:Tag der deutschen Einheit
DESCRIPTION:
URL:https://schule12.katholischer-schulverband-hamburg.de/termin/tag-der-deutschen-einheit-3/
END:VEVENT
BEGIN:VEVENT
DTSTART;TZID=Europe/Berlin:20240927T160000
DTEND;TZID=Europe/Berlin:20240927T180000
DTSTAMP:20260420T132708
CREATED:20240514T050655Z
LAST-MODIFIED:20240918T094631Z
UID:6569-1727452800-1727460000@schule12.katholischer-schulverband-hamburg.de
SUMMARY:Tag der offenen Tür
DESCRIPTION:Wir laden alle großen und kleinen Interessierten ein\, uns und unsere Schule kennenzulernen. Alle Kolleg_innen stehen für Gespräche zur Verfügung. Wir freuen uns auf Sie!
URL:https://schule12.katholischer-schulverband-hamburg.de/termin/tag-der-offenen-tuer-3/
END:VEVENT
BEGIN:VEVENT
DTSTART;VALUE=DATE:20240812
DTEND;VALUE=DATE:20240829
DTSTAMP:20260420T132708
CREATED:20230208T102555Z
LAST-MODIFIED:20231108T090803Z
UID:5869-1723420800-1724889599@schule12.katholischer-schulverband-hamburg.de
SUMMARY:GBS Sommer Schließung
DESCRIPTION:
URL:https://schule12.katholischer-schulverband-hamburg.de/termin/gbs-sommer-schliessung/
END:VEVENT
BEGIN:VEVENT
DTSTART;VALUE=DATE:20240718
DTEND;VALUE=DATE:20240829
DTSTAMP:20260420T132708
CREATED:20230810T130138Z
LAST-MODIFIED:20230810T130138Z
UID:6191-1721260800-1724889599@schule12.katholischer-schulverband-hamburg.de
SUMMARY:Sommerferien
DESCRIPTION:
URL:https://schule12.katholischer-schulverband-hamburg.de/termin/sommerferien-3/
END:VEVENT
BEGIN:VEVENT
DTSTART;TZID=Europe/Berlin:20240716T180000
DTEND;TZID=Europe/Berlin:20240716T190000
DTSTAMP:20260420T132708
CREATED:20230810T130048Z
LAST-MODIFIED:20230810T130048Z
UID:6189-1721152800-1721156400@schule12.katholischer-schulverband-hamburg.de
SUMMARY:Abschlussmesse der 4. Klassen
DESCRIPTION:
URL:https://schule12.katholischer-schulverband-hamburg.de/termin/abschlussmesse-der-4-klassen-2/
END:VEVENT
BEGIN:VEVENT
DTSTART;TZID=Europe/Berlin:20240613T160000
DTEND;TZID=Europe/Berlin:20240613T170000
DTSTAMP:20260420T132708
CREATED:20240403T054514Z
LAST-MODIFIED:20240403T054514Z
UID:6489-1718294400-1718298000@schule12.katholischer-schulverband-hamburg.de
SUMMARY:Sommerkonzert
DESCRIPTION:Der Spatzen-\, der Schulchor und die Ukulele-Gruppen laden Sie herzlich zu einem Sommerkonzert in die Turnhalle unserer Schule ein.
URL:https://schule12.katholischer-schulverband-hamburg.de/termin/sommerkonzert-2/
END:VEVENT
BEGIN:VEVENT
DTSTART;VALUE=DATE:20240612
DTEND;VALUE=DATE:20240613
DTSTAMP:20260420T132708
CREATED:20230827T130712Z
LAST-MODIFIED:20230827T130712Z
UID:6234-1718150400-1718236799@schule12.katholischer-schulverband-hamburg.de
SUMMARY:Sommersportfest
DESCRIPTION:
URL:https://schule12.katholischer-schulverband-hamburg.de/termin/sommersportfest-2/
END:VEVENT
BEGIN:VEVENT
DTSTART;TZID=Europe/Berlin:20240530T090000
DTEND;TZID=Europe/Berlin:20240530T100000
DTSTAMP:20260420T132708
CREATED:20230827T130635Z
LAST-MODIFIED:20240528T160627Z
UID:6232-1717059600-1717063200@schule12.katholischer-schulverband-hamburg.de
SUMMARY:Fronleichnam
DESCRIPTION:An diesem Feiertag kommen die Schüler*innen der 3. und 4. Klasse um 8.30 Uhr zum Gottesdienst auf den Schulhof\, kleinere Kinder sind herzlich eingeladen\, zusammen mit ihren Eltern mitzufeiern. Es ist unterrichtsfrei und es fahren keine Schulbusse. Es findet KEINE Betreuung statt.
URL:https://schule12.katholischer-schulverband-hamburg.de/termin/fronleichnam-3/
END:VEVENT
BEGIN:VEVENT
DTSTART;VALUE=DATE:20240520
DTEND;VALUE=DATE:20240525
DTSTAMP:20260420T132708
CREATED:20230810T125958Z
LAST-MODIFIED:20230810T125958Z
UID:6187-1716163200-1716595199@schule12.katholischer-schulverband-hamburg.de
SUMMARY:Maiferien
DESCRIPTION:
URL:https://schule12.katholischer-schulverband-hamburg.de/termin/maiferien-3/
END:VEVENT
BEGIN:VEVENT
DTSTART;VALUE=DATE:20240510
DTEND;VALUE=DATE:20240511
DTSTAMP:20260420T132708
CREATED:20230810T125924Z
LAST-MODIFIED:20230810T131050Z
UID:6185-1715299200-1715385599@schule12.katholischer-schulverband-hamburg.de
SUMMARY:Schulfrei
DESCRIPTION:Dieser Tag ist in Hamburg eine Ferientag.
URL:https://schule12.katholischer-schulverband-hamburg.de/termin/schulfrei-3/
END:VEVENT
BEGIN:VEVENT
DTSTART;VALUE=DATE:20240509
DTEND;VALUE=DATE:20240510
DTSTAMP:20260420T132708
CREATED:20230810T125837Z
LAST-MODIFIED:20230810T125837Z
UID:6183-1715212800-1715299199@schule12.katholischer-schulverband-hamburg.de
SUMMARY:Christi Himmelfahrt
DESCRIPTION:gesetzlicher Feiertag
URL:https://schule12.katholischer-schulverband-hamburg.de/termin/christi-himmelfahrt/
END:VEVENT
BEGIN:VEVENT
DTSTART;VALUE=DATE:20240501
DTEND;VALUE=DATE:20240502
DTSTAMP:20260420T132708
CREATED:20230810T125744Z
LAST-MODIFIED:20230810T130727Z
UID:6181-1714521600-1714607999@schule12.katholischer-schulverband-hamburg.de
SUMMARY:Tag der Arbeit
DESCRIPTION:gesetzlicher Feiertag
URL:https://schule12.katholischer-schulverband-hamburg.de/termin/staatsfeiertag/
END:VEVENT
END:VCALENDAR